BEGIN:VCALENDAR
VERSION:2.0
PRODID:-//The Crown Entertainement - ECPv6.15.11//NONSGML v1.0//EN
CALSCALE:GREGORIAN
METHOD:PUBLISH
X-ORIGINAL-URL:https://thecrown.ch
X-WR-CALDESC:Events for The Crown Entertainement
REFRESH-INTERVAL;VALUE=DURATION:PT1H
X-Robots-Tag:noindex
X-PUBLISHED-TTL:PT1H
BEGIN:VTIMEZONE
TZID:UTC
BEGIN:STANDARD
TZOFFSETFROM:+0000
TZOFFSETTO:+0000
TZNAME:UTC
DTSTART:20240101T000000
END:STANDARD
END:VTIMEZONE
BEGIN:VEVENT
DTSTART;TZID=UTC:20251130T170000
DTEND;TZID=UTC:20271229T230000
DTSTAMP:20260420T170343
CREATED:20200504T180421Z
LAST-MODIFIED:20251015T053105Z
UID:1737-1764522000-1830121200@thecrown.ch
SUMMARY:DJ Music & Lights Festival 2025
DESCRIPTION:Get ready to groove! The Music & Lights Festival returns with top DJs\, live performances\, and an electrifying LED display. Don’t miss this immersive experience filled with rhythm\, beats\, and unforgettable energy!
URL:https://thecrown.ch/event/dj-music-lights-festival-2025/
LOCATION:Switzerland
CATEGORIES:DJ Music
ATTACH;FMTTYPE=image/jpeg:https://thecrown.ch/wp-content/uploads/2020/05/DJ-Music-Lights-Festival-2025.jpeg
END:VEVENT
END:VCALENDAR