BEGIN:VCALENDAR
VERSION:2.0
PRODID:-//The Crown Entertainement - ECPv6.15.11//NONSGML v1.0//EN
CALSCALE:GREGORIAN
METHOD:PUBLISH
X-WR-CALNAME:The Crown Entertainement
X-ORIGINAL-URL:https://thecrown.ch
X-WR-CALDESC:Events for The Crown Entertainement
REFRESH-INTERVAL;VALUE=DURATION:PT1H
X-Robots-Tag:noindex
X-PUBLISHED-TTL:PT1H
BEGIN:VTIMEZONE
TZID:UTC
BEGIN:STANDARD
TZOFFSETFROM:+0000
TZOFFSETTO:+0000
TZNAME:UTC
DTSTART:20240101T000000
END:STANDARD
END:VTIMEZONE
BEGIN:VEVENT
DTSTART;TZID=UTC:20251015T080000
DTEND;TZID=UTC:20251015T080000
DTSTAMP:20260420T224939
CREATED:20200428T132832Z
LAST-MODIFIED:20251015T053153Z
UID:1200-1760515200-1760515200@thecrown.ch
SUMMARY:Annual Corporate Excellence Summit 2025
DESCRIPTION:Join industry leaders and professionals at the Annual Corporate Excellence Summit where innovation meets strategy. Discover new insights\, network with peers\, and gain actionable solutions to lead your organization into the future.
URL:https://thecrown.ch/event/annual-corporate-excellence-summit-2025/
LOCATION:Switzerland
CATEGORIES:Corporate Event
ATTACH;FMTTYPE=image/jpeg:https://thecrown.ch/wp-content/uploads/2020/04/Annual-Corporate-Excellence-Summit-2025.jpg
END:VEVENT
END:VCALENDAR